BEGIN:VCALENDAR
VERSION:2.0
PRODID:-//Old Sacramento Waterfront - ECPv6.15.18//NONSGML v1.0//EN
CALSCALE:GREGORIAN
METHOD:PUBLISH
X-WR-CALNAME:Old Sacramento Waterfront
X-ORIGINAL-URL:https://www.oldsacramento.com
X-WR-CALDESC:Events for Old Sacramento Waterfront
REFRESH-INTERVAL;VALUE=DURATION:PT1H
X-Robots-Tag:noindex
X-PUBLISHED-TTL:PT1H
BEGIN:VTIMEZONE
TZID:America/Los_Angeles
BEGIN:DAYLIGHT
TZOFFSETFROM:-0800
TZOFFSETTO:-0700
TZNAME:PDT
DTSTART:20250309T100000
END:DAYLIGHT
BEGIN:STANDARD
TZOFFSETFROM:-0700
TZOFFSETTO:-0800
TZNAME:PST
DTSTART:20251102T090000
END:STANDARD
BEGIN:DAYLIGHT
TZOFFSETFROM:-0800
TZOFFSETTO:-0700
TZNAME:PDT
DTSTART:20260308T100000
END:DAYLIGHT
BEGIN:STANDARD
TZOFFSETFROM:-0700
TZOFFSETTO:-0800
TZNAME:PST
DTSTART:20261101T090000
END:STANDARD
BEGIN:DAYLIGHT
TZOFFSETFROM:-0800
TZOFFSETTO:-0700
TZNAME:PDT
DTSTART:20270314T100000
END:DAYLIGHT
BEGIN:STANDARD
TZOFFSETFROM:-0700
TZOFFSETTO:-0800
TZNAME:PST
DTSTART:20271107T090000
END:STANDARD
END:VTIMEZONE
BEGIN:VEVENT
DTSTART;TZID=America/Los_Angeles:20260423T180000
DTEND;TZID=America/Los_Angeles:20260423T213000
DTSTAMP:20260421T043916
CREATED:20260416T160322Z
LAST-MODIFIED:20260417T154535Z
UID:10000073-1776967200-1776979800@www.oldsacramento.com
SUMMARY:Spring is Swingin'
DESCRIPTION:Blooms\, bees\, butterflies\, and… brass?! \nAs sure as the leaves return to the trees\, spring is back once again! \nJoin us at the California State Railroad Museum to cut a rug with Midtown Stomp and see for yourself exactly why Spring is Swingin’. From 6 to 9:30 p.m. on Thursday\, April 23\, see the California State Railroad Museum’s Roundhouse transform into a swing-dancing speakeasy paradise. \nJoin us at the top of the event at 6 p.m. for a 45-minute lesson courtesy of Midtown Stomp\, and stick around to swing till 9:30 p.m.\, swingin’ courtesy of Sacramento’s own West End Stompers. Enjoy delectable libations from Acheson Wine Company between tunes.
URL:https://www.oldsacramento.com/event/spring-is-swingin/
CATEGORIES:dance,Museum
ATTACH;FMTTYPE=image/jpeg:https://www.oldsacramento.com/wp-content/uploads/2026/04/Spring-is-swingin-2026.jpg
END:VEVENT
END:VCALENDAR